BEGIN:VCALENDAR
PRODID:-//punkave//apostrophe 1.x//EN
VERSION:1.0
TZ:0
BEGIN:VEVENT
CATEGORIES:MEETING
DTSTART:20150527T040000Z
DTEND:20150531T165959Z
DTSTAMP:20140618T001900Z
SUMMARY:Kindergarten Lemonade Stand and Bake Sale
DESCRIPTION:The Kindergarten students will be having a lemonade stand/bake sale at the 11:45 and 2:45 dismissals on 5/27 and 5/28, and the 2:45 dismissal on 5/29.
LOCATION:
UID:2064
END:VEVENT
END:VCALENDAR