BEGIN:VCALENDAR
PRODID:-//punkave//apostrophe 1.x//EN
VERSION:1.0
TZ:0
BEGIN:VEVENT
CATEGORIES:MEETING
DTSTART:20150529T040000Z
DTEND:20150531T165959Z
DTSTAMP:20140618T002025Z
SUMMARY:Camp Paperwork Due
DESCRIPTION:
LOCATION:
UID:2065
END:VEVENT
END:VCALENDAR