BEGIN:VCALENDAR
PRODID:-//punkave//apostrophe 1.x//EN
VERSION:1.0
TZ:0
BEGIN:VEVENT
CATEGORIES:MEETING
DTSTART:20150529T153000Z
DTEND:20150529T163000Z
DTSTAMP:20140729T232832Z
SUMMARY:LATW: India
DESCRIPTION:K students should not bring lunch this day!
LOCATION:
UID:2094
END:VEVENT
END:VCALENDAR