BEGIN:VCALENDAR
PRODID:-//punkave//apostrophe 1.x//EN
VERSION:1.0
TZ:0
BEGIN:VEVENT
CATEGORIES:MEETING
DTSTART:20150603T213000Z
DTEND:20150603T223000Z
DTSTAMP:20140618T232511Z
SUMMARY:Toddler House Ice Cream Social
DESCRIPTION:For GTMS Toddler Families!
LOCATION:
UID:2066
END:VEVENT
END:VCALENDAR