BEGIN:VCALENDAR
PRODID:-//punkave//apostrophe 1.x//EN
VERSION:1.0
TZ:0
BEGIN:VEVENT
CATEGORIES:MEETING
DTSTART:20150604T150000Z
DTEND:20150604T170000Z
DTSTAMP:20150415T152552Z
SUMMARY:Kindergarten ADM Dance Performance with Leah Stein
DESCRIPTION:The cooperative performance with ADM Ks and SLA students has just been scheduled for mid-day on JUNE 4. We will give you more information as we get closer to the time.
LOCATION:
UID:2303
END:VEVENT
END:VCALENDAR