BEGIN:VCALENDAR
PRODID:-//punkave//apostrophe 1.x//EN
VERSION:1.0
TZ:0
BEGIN:VEVENT
CATEGORIES:MEETING
DTSTART:20150605T040000Z
DTEND:20150607T165959Z
DTSTAMP:20140618T233123Z
SUMMARY:Last Day of School: 10:30am STAGGERED DISMISSAL
DESCRIPTION:For families that do not have a K student 8-9am: Drop off as usual 10:30-10:45am: Parents may pick up younger Primary students from the classroom and say goodbye to the teachers. 10:45am: All Primary Students Dismissed 11:00 ALL BUILDINGS CLOSE For families with a K student 8-9am: Drop off as usual 10:45-11am: Parents can pick up younger siblings from lobby Kindergarten students will be accompanied to Moore College of Art by Greene Towne staff 11:00 ALL BUILDINGS CLOSE 11:15 Kindergarten Families arrive at Moore College auditorium 11:30 Kindergarten Performance for Kindergarten Families Noon-12:30 Reception for Kindergarten Families
LOCATION:
UID:2067
END:VEVENT
END:VCALENDAR