BEGIN:VCALENDAR
PRODID:-//punkave//apostrophe 1.x//EN
VERSION:1.0
TZ:0
BEGIN:VEVENT
CATEGORIES:MEETING
DTSTART:20150608T220000Z
DTEND:20150609T000000Z
DTSTAMP:20140618T233400Z
SUMMARY:Board Meeting
DESCRIPTION:
LOCATION:
UID:2069
END:VEVENT
END:VCALENDAR