BEGIN:VCALENDAR
PRODID:-//punkave//apostrophe 1.x//EN
VERSION:1.0
TZ:0
BEGIN:VEVENT
CATEGORIES:MEETING
DTSTART:20150608T040000Z
DTEND:20150614T165959Z
DTSTAMP:20140618T233600Z
SUMMARY:Summer Bridge Camp
DESCRIPTION:All year ADM in session all week.
LOCATION:
UID:2070
END:VEVENT
END:VCALENDAR