BEGIN:VCALENDAR
PRODID:-//punkave//apostrophe 1.x//EN
VERSION:1.0
TZ:0
BEGIN:VEVENT
CATEGORIES:MEETING
DTSTART:20150610T040000Z
DTEND:20150612T165959Z
DTSTAMP:20140618T233200Z
SUMMARY:GTMS Family Day at Sesame Place
DESCRIPTION:Hours vary depending on day. For details visit: http://sesameplace.com/en/langhorne/park-info/park-hours/# Transportation and meals are on your own. Tickets are non-refundable. Valid for one visit on any operating day Monday through Friday 5/8/15 -6/19/15. Not valid Saturdays or Sundays. After 6/19/15, you may apply the net ticket value ($16. + $1.12 in taxes) of an unused ticket toward another higher priced non-group admission ticket through 10/31/15 at Guest Relations. After 10/31/15 the ticket expires and has no value. Cannot be combined with any other discount or offer.
LOCATION:
UID:2068
END:VEVENT
END:VCALENDAR