BEGIN:VCALENDAR
PRODID:-//punkave//apostrophe 1.x//EN
VERSION:1.0
TZ:0
BEGIN:VEVENT
CATEGORIES:MEETING
DTSTART:20150615T040000Z
DTEND:20150617T165959Z
DTSTAMP:20140619T230149Z
SUMMARY:Summer Camp Begins
DESCRIPTION:
LOCATION:
UID:2081
END:VEVENT
END:VCALENDAR