BEGIN:VCALENDAR
PRODID:-//punkave//apostrophe 1.x//EN
VERSION:1.0
TZ:0
BEGIN:VEVENT
CATEGORIES:MEETING
DTSTART:20150703T040000Z
DTEND:20150705T165959Z
DTSTAMP:20140618T233839Z
SUMMARY:Independence Day Observed: CAMP CLOSED
DESCRIPTION:ADM CLOSED.
LOCATION:
UID:2071
END:VEVENT
END:VCALENDAR