BEGIN:VCALENDAR
PRODID:-//punkave//apostrophe 1.x//EN
VERSION:1.0
TZ:0
BEGIN:VEVENT
CATEGORIES:MEETING
DTSTART:20150714T210000Z
DTEND:20150714T220000Z
DTSTAMP:20140618T234025Z
SUMMARY:New Toddler Play Date
DESCRIPTION:
LOCATION:
UID:2072
END:VEVENT
END:VCALENDAR