BEGIN:VCALENDAR
PRODID:-//punkave//apostrophe 1.x//EN
VERSION:1.0
TZ:0
BEGIN:VEVENT
CATEGORIES:MEETING
DTSTART:20150814T040000Z
DTEND:20150816T165959Z
DTSTAMP:20140619T000104Z
SUMMARY:Last Day of Summer Camp
DESCRIPTION:
LOCATION:
UID:2074
END:VEVENT
END:VCALENDAR