BEGIN:VCALENDAR
PRODID:-//punkave//apostrophe 1.x//EN
VERSION:1.0
TZ:0
BEGIN:VEVENT
CATEGORIES:MEETING
DTSTART:20150817T040000Z
DTEND:20150830T165959Z
DTSTAMP:20140619T000320Z
SUMMARY:Summer Bridge Camp
DESCRIPTION:ADM in session 8/17-8/28.
LOCATION:
UID:2075
END:VEVENT
END:VCALENDAR