BEGIN:VCALENDAR
PRODID:-//punkave//apostrophe 1.x//EN
VERSION:1.0
TZ:0
BEGIN:VEVENT
CATEGORIES:MEETING
DTSTART:20150831T040000Z
DTEND:20150906T165959Z
DTSTAMP:20140619T000459Z
SUMMARY:Staff In-Service: ADM CLOSED THIS WEEK
DESCRIPTION:
LOCATION:
UID:2076
END:VEVENT
END:VCALENDAR