BEGIN:VCALENDAR
PRODID:-//punkave//apostrophe 1.x//EN
VERSION:1.0
TZ:0
BEGIN:VEVENT
CATEGORIES:MEETING
DTSTART:20150907T040000Z
DTEND:20150909T165959Z
DTSTAMP:20140619T005439Z
SUMMARY:Labor Day: SCHOOL CLOSED
DESCRIPTION:ADM CLOSED.
LOCATION:
UID:2077
END:VEVENT
END:VCALENDAR