BEGIN:VCALENDAR
PRODID:-//punkave//apostrophe 1.x//EN
VERSION:1.0
TZ:0
BEGIN:VEVENT
CATEGORIES:MEETING
DTSTART:20150908T040000Z
DTEND:20150911T165959Z
DTSTAMP:20140619T005500Z
SUMMARY:New Student Phase-In
DESCRIPTION:School has an abbreviated phase-in schedule this week. All schedules have been sent out; contact the office for assistance. Returning ADM in session Tuesday and Wednesday, 9/8 and 9/9.
LOCATION:
UID:2078
END:VEVENT
END:VCALENDAR