BEGIN:VCALENDAR
PRODID:-//punkave//apostrophe 1.x//EN
VERSION:1.0
TZ:0
BEGIN:VEVENT
CATEGORIES:MEETING
DTSTART:20150908T221500Z
DTEND:20150909T000000Z
DTSTAMP:20150609T144300Z
SUMMARY:Parent Potluck and Orientation with Laura Connor
DESCRIPTION:A parent only evening with Laura Connor, held at the West Campus.
LOCATION:2215 Arch Street, Philadelphia PA
UID:2358
END:VEVENT
END:VCALENDAR