BEGIN:VCALENDAR
PRODID:-//punkave//apostrophe 1.x//EN
VERSION:1.0
TZ:0
BEGIN:VEVENT
CATEGORIES:MEETING
DTSTART:20150910T040000Z
DTEND:20150913T165959Z
DTSTAMP:20140619T005600Z
SUMMARY:New and Returning Student Phase-In
DESCRIPTION:School has an abbreviated phase-in schedule this week. All schedules have been sent out; contact the office for assistance. ADM in session Thursday and Friday, 9/10 and 9/11.
LOCATION:
UID:2079
END:VEVENT
END:VCALENDAR