BEGIN:VCALENDAR
PRODID:-//punkave//apostrophe 1.x//EN
VERSION:1.0
TZ:0
BEGIN:VEVENT
CATEGORIES:MEETING
DTSTART:20150911T123000Z
DTEND:20150911T133000Z
DTSTAMP:20150609T145300Z
SUMMARY:Parent Coffee: Meet and Greet and Orientation
DESCRIPTION:Parent Meet and Greet Coffee and Orientation held at the East Campus.
LOCATION:2121 Arch Street, Philadelphia PA
UID:2361
END:VEVENT
END:VCALENDAR