BEGIN:VCALENDAR
PRODID:-//punkave//apostrophe 1.x//EN
VERSION:1.0
TZ:0
BEGIN:VEVENT
CATEGORIES:MEETING
DTSTART:20150914T040000Z
DTEND:20150916T165959Z
DTSTAMP:20150609T145847Z
SUMMARY:First Day of School
DESCRIPTION:First official day of school with regular schedule.
LOCATION:
UID:2362
END:VEVENT
END:VCALENDAR