BEGIN:VCALENDAR
PRODID:-//punkave//apostrophe 1.x//EN
VERSION:1.0
TZ:0
BEGIN:VEVENT
CATEGORIES:MEETING
DTSTART:20150915T220000Z
DTEND:20150916T000000Z
DTSTAMP:20150609T151500Z
SUMMARY:Parent Potluck and Workshop with Ms. Dhar
DESCRIPTION:A Parent only evening with Neepa Dhar, held at the West Campus.
LOCATION:2215 Arch Street, Philadelphia PA
UID:2363
END:VEVENT
END:VCALENDAR