BEGIN:VCALENDAR
PRODID:-//punkave//apostrophe 1.x//EN
VERSION:1.0
TZ:0
BEGIN:VEVENT
CATEGORIES:MEETING
DTSTART:20150915T220000Z
DTEND:20150916T000000Z
DTSTAMP:20150609T151700Z
SUMMARY:Parent Potluck and Workshop with Ms. Prestas
DESCRIPTION:A parent only evening with Ms. Prestas, held at the East Campus.
LOCATION:2121 Arch St. Philadelphia, PA
UID:2364
END:VEVENT
END:VCALENDAR