BEGIN:VCALENDAR
PRODID:-//punkave//apostrophe 1.x//EN
VERSION:1.0
TZ:0
BEGIN:VEVENT
CATEGORIES:MEETING
DTSTART:20150916T220000Z
DTEND:20150917T000000Z
DTSTAMP:20150609T151900Z
SUMMARY:Parent Potluck and Workshop with Mrs. Pysher
DESCRIPTION:A parent only evening with Mrs. Pysher, held at the East Campus.
LOCATION:2121 Arch St, Philadelphia PA
UID:2365
END:VEVENT
END:VCALENDAR