BEGIN:VCALENDAR
PRODID:-//punkave//apostrophe 1.x//EN
VERSION:1.0
TZ:0
BEGIN:VEVENT
CATEGORIES:MEETING
DTSTART:20150917T220000Z
DTEND:20150918T000000Z
DTSTAMP:20150609T152200Z
SUMMARY:Parent Potluck and Workshop with Ms. Matsukevich
DESCRIPTION:A parent only evening with Anna Matsukevich, held at the East Campus.
LOCATION:2121 Arch St. Philadelphia PA
UID:2366
END:VEVENT
END:VCALENDAR