BEGIN:VCALENDAR
PRODID:-//punkave//apostrophe 1.x//EN
VERSION:1.0
TZ:0
BEGIN:VEVENT
CATEGORIES:MEETING
DTSTART:20150921T220000Z
DTEND:20150922T000000Z
DTSTAMP:20150805T122626Z
SUMMARY:Board Meeting
DESCRIPTION:
LOCATION:
UID:2501
END:VEVENT
END:VCALENDAR