BEGIN:VCALENDAR
PRODID:-//punkave//apostrophe 1.x//EN
VERSION:1.0
TZ:0
BEGIN:VEVENT
CATEGORIES:MEETING
DTSTART:20150921T220000Z
DTEND:20150921T230000Z
DTSTAMP:20150609T152700Z
SUMMARY:Parent Potluck and Orientation with Ms. Coulter
DESCRIPTION:A parent only evening with Jennifer Coulter, held at the East Campus.
LOCATION:2121 Arch St. Philadelphia PA
UID:2367
END:VEVENT
END:VCALENDAR