BEGIN:VCALENDAR
PRODID:-//punkave//apostrophe 1.x//EN
VERSION:1.0
TZ:0
BEGIN:VEVENT
CATEGORIES:MEETING
DTSTART:20150925T040000Z
DTEND:20150927T165959Z
DTSTAMP:20150609T153008Z
SUMMARY:School Closed
DESCRIPTION:School and ADM Closed.
LOCATION:
UID:2368
END:VEVENT
END:VCALENDAR