BEGIN:VCALENDAR
PRODID:-//punkave//apostrophe 1.x//EN
VERSION:1.0
TZ:0
BEGIN:VEVENT
CATEGORIES:MEETING
DTSTART:20150928T040000Z
DTEND:20150930T165959Z
DTSTAMP:20150901T175400Z
SUMMARY:Papal Visit: SCHOOL CLOSED
DESCRIPTION:ADM CLOSED.
LOCATION:
UID:2517
END:VEVENT
END:VCALENDAR