BEGIN:VCALENDAR
PRODID:-//punkave//apostrophe 1.x//EN
VERSION:1.0
TZ:0
BEGIN:VEVENT
CATEGORIES:MEETING
DTSTART:20150929T121500Z
DTEND:20150929T130000Z
DTSTAMP:20150609T153400Z
SUMMARY:Auction Volunteer Coffee
DESCRIPTION:Coffee for auction volunteers, or those who may be interested in volunteering, held at the East Campus.
LOCATION:2121 Arch St. Philadelphia PA
UID:2369
END:VEVENT
END:VCALENDAR