BEGIN:VCALENDAR
PRODID:-//punkave//apostrophe 1.x//EN
VERSION:1.0
TZ:0
BEGIN:VEVENT
CATEGORIES:MEETING
DTSTART:20151001T121500Z
DTEND:20151001T130000Z
DTSTAMP:20150609T185700Z
SUMMARY:Kindergarten Parent Coffee
DESCRIPTION:Coffee for K parents, to be held at the East Campus.
LOCATION:2121 Arch St. Philadelphia PA
UID:2370
END:VEVENT
END:VCALENDAR