BEGIN:VCALENDAR
PRODID:-//punkave//apostrophe 1.x//EN
VERSION:1.0
TZ:0
BEGIN:VEVENT
CATEGORIES:MEETING
DTSTART:20151001T220000Z
DTEND:20151001T233000Z
DTSTAMP:20150609T190000Z
SUMMARY:Kindergarten Year Workshop (For next year\'s K parents)
DESCRIPTION:Dinner and child care provided with RSVP. (Child care is for Primary students only, with priority given to next year\'s K students.)
LOCATION:2121 Arch St. Philadelphia PA
UID:2371
END:VEVENT
END:VCALENDAR