BEGIN:VCALENDAR
PRODID:-//punkave//apostrophe 1.x//EN
VERSION:1.0
TZ:0
BEGIN:VEVENT
CATEGORIES:MEETING
DTSTART:20151003T150000Z
DTEND:20151003T180000Z
DTSTAMP:20150609T190400Z
SUMMARY:Fall Family Picnic
DESCRIPTION:See the flyer for more info!
LOCATION:
UID:2372
END:VEVENT
END:VCALENDAR