BEGIN:VCALENDAR
PRODID:-//punkave//apostrophe 1.x//EN
VERSION:1.0
TZ:0
BEGIN:VEVENT
CATEGORIES:MEETING
DTSTART:20151006T121500Z
DTEND:20151006T130000Z
DTSTAMP:20150609T190704Z
SUMMARY:Coffee with Jen Wollman
DESCRIPTION:Toddler parent coffee with Jen Wollman, held at the West Campus.
LOCATION:2215 Arch St. Philadelphia PA
UID:2373
END:VEVENT
END:VCALENDAR