BEGIN:VCALENDAR
PRODID:-//punkave//apostrophe 1.x//EN
VERSION:1.0
TZ:0
BEGIN:VEVENT
CATEGORIES:MEETING
DTSTART:20151006T130000Z
DTEND:20151006T143000Z
DTSTAMP:20150610T132800Z
SUMMARY:Toddler House Parent Orientation to Primary Tour
DESCRIPTION:For current toddler parents who will be going to primary class next year
LOCATION:
UID:2375
END:VEVENT
END:VCALENDAR