BEGIN:VCALENDAR
PRODID:-//punkave//apostrophe 1.x//EN
VERSION:1.0
TZ:0
BEGIN:VEVENT
CATEGORIES:MEETING
DTSTART:20151007T121500Z
DTEND:20151007T131500Z
DTSTAMP:20150609T190800Z
SUMMARY:Coffee with Laura Connor
DESCRIPTION:Toddler parent coffee with Laura Connor, held at the West Campus.
LOCATION:2215 Arch St. Philadelphia PA
UID:2374
END:VEVENT
END:VCALENDAR