BEGIN:VCALENDAR
PRODID:-//punkave//apostrophe 1.x//EN
VERSION:1.0
TZ:0
BEGIN:VEVENT
CATEGORIES:MEETING
DTSTART:20151008T121500Z
DTEND:20151008T130000Z
DTSTAMP:20150610T133046Z
SUMMARY:Coffee with Michelle Nowacky
DESCRIPTION:Toddler parent coffee with Michelle Nowacky, held at the West Campus.
LOCATION:
UID:2376
END:VEVENT
END:VCALENDAR