BEGIN:VCALENDAR
PRODID:-//punkave//apostrophe 1.x//EN
VERSION:1.0
TZ:0
BEGIN:VEVENT
CATEGORIES:MEETING
DTSTART:20151008T130000Z
DTEND:20151008T143000Z
DTSTAMP:20150610T133403Z
SUMMARY:Toddler House ADM Parent Orientation to Primary Tour
DESCRIPTION:For current ADM toddler parents who will be going to ADM primary class next year.
LOCATION:
UID:2377
END:VEVENT
END:VCALENDAR