BEGIN:VCALENDAR
PRODID:-//punkave//apostrophe 1.x//EN
VERSION:1.0
TZ:0
BEGIN:VEVENT
CATEGORIES:MEETING
DTSTART:20151009T040000Z
DTEND:20151011T165959Z
DTSTAMP:20150610T133810Z
SUMMARY:Staff In-Service: SCHOOL CLOSED
DESCRIPTION:ADM CLOSED.
LOCATION:
UID:2379
END:VEVENT
END:VCALENDAR