BEGIN:VCALENDAR
PRODID:-//punkave//apostrophe 1.x//EN
VERSION:1.0
TZ:0
BEGIN:VEVENT
CATEGORIES:MEETING
DTSTART:20151012T040000Z
DTEND:20151014T165959Z
DTSTAMP:20150610T134200Z
SUMMARY:Columbus Day: SCHOOL CLOSED
DESCRIPTION:ADM CLOSED.
LOCATION:
UID:2380
END:VEVENT
END:VCALENDAR