BEGIN:VCALENDAR
PRODID:-//punkave//apostrophe 1.x//EN
VERSION:1.0
TZ:0
BEGIN:VEVENT
CATEGORIES:MEETING
DTSTART:20151014T121500Z
DTEND:20151014T130000Z
DTSTAMP:20150610T134855Z
SUMMARY:Coffee with Jean Prestas
DESCRIPTION:Primary parent coffee with Jean Prestas, held at the East Campus.
LOCATION:2121 Arch St. Philadelphia PA
UID:2381
END:VEVENT
END:VCALENDAR