BEGIN:VCALENDAR
PRODID:-//punkave//apostrophe 1.x//EN
VERSION:1.0
TZ:0
BEGIN:VEVENT
CATEGORIES:MEETING
DTSTART:20151014T121500Z
DTEND:20151014T130000Z
DTSTAMP:20150610T133603Z
SUMMARY:Coffee with Neepa Dhar
DESCRIPTION:Primary parent coffee with Neepa Dhar, held at the West Campus.
LOCATION:2215 Arch St. Philadelphia PA
UID:2378
END:VEVENT
END:VCALENDAR