BEGIN:VCALENDAR
PRODID:-//punkave//apostrophe 1.x//EN
VERSION:1.0
TZ:0
BEGIN:VEVENT
CATEGORIES:MEETING
DTSTART:20151015T121500Z
DTEND:20151015T130000Z
DTSTAMP:20150610T135247Z
SUMMARY:Coffee with Michelle Pysher
DESCRIPTION:Primary parent coffee with Michelle Pysher, held at East Campus.
LOCATION:2121 Arch St. Philadelphia PA
UID:2382
END:VEVENT
END:VCALENDAR