BEGIN:VCALENDAR
PRODID:-//punkave//apostrophe 1.x//EN
VERSION:1.0
TZ:0
BEGIN:VEVENT
CATEGORIES:MEETING
DTSTART:20151017T150000Z
DTEND:20151017T160000Z
DTSTAMP:20150610T135824Z
SUMMARY:Fall Family Picnic: Rain Date
DESCRIPTION:
LOCATION:
UID:2383
END:VEVENT
END:VCALENDAR