BEGIN:VCALENDAR
PRODID:-//punkave//apostrophe 1.x//EN
VERSION:1.0
TZ:0
BEGIN:VEVENT
CATEGORIES:MEETING
DTSTART:20151019T040000Z
DTEND:20151122T175959Z
DTSTAMP:20150610T140300Z
SUMMARY:Parent Observations Begin
DESCRIPTION:To observe your child please contact the Administrative Assistant to schedule the visit.
LOCATION:
UID:2384
END:VEVENT
END:VCALENDAR