BEGIN:VCALENDAR
PRODID:-//punkave//apostrophe 1.x//EN
VERSION:1.0
TZ:0
BEGIN:VEVENT
CATEGORIES:MEETING
DTSTART:20151020T121500Z
DTEND:20151022T131500Z
DTSTAMP:20150610T140900Z
SUMMARY:Coffee with Anna Matsukevich
DESCRIPTION:Primary parent coffee with Anna Matsukevich, held at East Campus.
LOCATION:2121 Arch St. Philadelphia PA
UID:2385
END:VEVENT
END:VCALENDAR