BEGIN:VCALENDAR
PRODID:-//punkave//apostrophe 1.x//EN
VERSION:1.0
TZ:0
BEGIN:VEVENT
CATEGORIES:MEETING
DTSTART:20151021T223000Z
DTEND:20151021T233000Z
DTSTAMP:20150615T172700Z
SUMMARY:Admissions Open House
DESCRIPTION:
LOCATION:
UID:2400
END:VEVENT
END:VCALENDAR