BEGIN:VCALENDAR
PRODID:-//punkave//apostrophe 1.x//EN
VERSION:1.0
TZ:0
BEGIN:VEVENT
CATEGORIES:MEETING
DTSTART:20151021T121500Z
DTEND:20151021T130000Z
DTSTAMP:20151016T132200Z
SUMMARY:Coffee with Michelle Nowacky: Make Up Date
DESCRIPTION:Toddler coffee with Michelle Nowacky, held at West.
LOCATION:2215 Arch St, Croskey Entrance Phila, PA 19103
UID:2570
END:VEVENT
END:VCALENDAR