BEGIN:VCALENDAR
PRODID:-//punkave//apostrophe 1.x//EN
VERSION:1.0
TZ:0
BEGIN:VEVENT
CATEGORIES:MEETING
DTSTART:20151024T140000Z
DTEND:20151024T160000Z
DTSTAMP:20150805T123200Z
SUMMARY:Parent Workshop: CPR Certification
DESCRIPTION:Please register with payment ($55) at the front desk at East or West.
LOCATION:
UID:2503
END:VEVENT
END:VCALENDAR