BEGIN:VCALENDAR
PRODID:-//punkave//apostrophe 1.x//EN
VERSION:1.0
TZ:0
BEGIN:VEVENT
CATEGORIES:MEETING
DTSTART:20151024T120000Z
DTEND:20151024T190000Z
DTSTAMP:20150805T123207Z
SUMMARY:Strategic Plan Retreat
DESCRIPTION:
LOCATION:
UID:2502
END:VEVENT
END:VCALENDAR